BEGIN:VCALENDAR
VERSION:2.0
PRODID:-//Plone.org//NONSGML plone.app.event//EN
X-WR-TIMEZONE:Europe/Madrid
BEGIN:VEVENT
SUMMARY:Aparador d´espectacles: Això no és màgia, o sí!
DTSTART;TZID=Europe/Madrid;VALUE=DATE-TIME:20141005T180000
DTEND;TZID=Europe/Madrid;VALUE=DATE-TIME:20141005T190000
DTSTAMP;VALUE=DATE-TIME:20260422T184321Z
UID:a99d546b40b4ce5e2821878fea6d0f48
CREATED;VALUE=DATE-TIME:20141005T000000Z
LOCATION:Plaça Colomer, en cas de pluja a l´envelat de Vil&bull;la Flora
ORGANIZER:Aparador d´espectacles - ACPO
URL:https://www.canetdemar.cat/document.php?id=12315
END:VEVENT
END:VCALENDAR