BEGIN:VCALENDAR
VERSION:2.0
PRODID:-//Plone.org//NONSGML plone.app.event//EN
X-WR-TIMEZONE:Europe/Madrid
BEGIN:VEVENT
SUMMARY:Projecció pel·licula: Copying Beethoven
DTSTART;TZID=Europe/Madrid;VALUE=DATE-TIME:20141024T190000
DTEND;TZID=Europe/Madrid;VALUE=DATE-TIME:20141024T200000
DTSTAMP;VALUE=DATE-TIME:20260424T045608Z
UID:c335b6f34a0cbe0156a0265f88205d73
CREATED;VALUE=DATE-TIME:20141024T000000Z
CATEGORIES:Cinema
LOCATION:Aula Magna CRTTT - Escola de Teixits
ORGANIZER:Sàlvia, Associació de dones de Canet de Mar
COMMENT:Preu: Gratuït
URL:https://www.canetdemar.cat/document.php?id=12302
END:VEVENT
END:VCALENDAR