BEGIN:VCALENDAR
VERSION:2.0
PRODID:-//Plone.org//NONSGML plone.app.event//EN
X-WR-TIMEZONE:Europe/Madrid
BEGIN:VEVENT
SUMMARY:Lliurament de Premis XI certamen Poesia 2014
DTSTART;TZID=Europe/Madrid;VALUE=DATE-TIME:20141026T120000
DTEND;TZID=Europe/Madrid;VALUE=DATE-TIME:20141026T130000
DTSTAMP;VALUE=DATE-TIME:20260425T004158Z
UID:2ee1c2992e7423668ac1881d6eb7acdc
CREATED;VALUE=DATE-TIME:20141026T000000Z
CATEGORIES:Literatura
LOCATION:Plaça Manén
ORGANIZER:Sàlvia
COMMENT:Preu: gratuït
URL:https://www.canetdemar.cat/document.php?id=12271
END:VEVENT
END:VCALENDAR