BEGIN:VCALENDAR
VERSION:2.0
PRODID:-//Plone.org//NONSGML plone.app.event//EN
X-WR-TIMEZONE:Europe/Madrid
BEGIN:VEVENT
SUMMARY:Teatre: La perla de les Antilles
DTSTART;TZID=Europe/Madrid;VALUE=DATE-TIME:20140920T213000
DTEND;TZID=Europe/Madrid;VALUE=DATE-TIME:20140920T223000
DTSTAMP;VALUE=DATE-TIME:20260423T220815Z
UID:d6c7dcd6840005e9088810a7accda4de
CREATED;VALUE=DATE-TIME:20140920T000000Z
ORGANIZER:Associació del Personal de La Caixa
DESCRIPTION:En benefici de l'associació Terra i Cel
URL:https://www.canetdemar.cat/document.php?id=12265
END:VEVENT
END:VCALENDAR