BEGIN:VCALENDAR
VERSION:2.0
PRODID:-//Plone.org//NONSGML plone.app.event//EN
X-WR-TIMEZONE:Europe/Madrid
BEGIN:VEVENT
SUMMARY:Festival Bikini Rock
DTSTART;TZID=Europe/Madrid;VALUE=DATE-TIME:20140906T233000
DTEND;TZID=Europe/Madrid;VALUE=DATE-TIME:20140907T003000
DTSTAMP;VALUE=DATE-TIME:20260423T034750Z
UID:a86576f0e5107be66d2cf0282e070aff
CREATED;VALUE=DATE-TIME:20140906T000000Z
LOCATION:passeig Marítim
ORGANIZER:Cop de rock
URL:https://www.canetdemar.cat/document.php?id=12217
END:VEVENT
END:VCALENDAR