BEGIN:VCALENDAR
VERSION:2.0
PRODID:-//Plone.org//NONSGML plone.app.event//EN
X-WR-TIMEZONE:Europe/Madrid
BEGIN:VEVENT
SUMMARY:Novena de la Mare de Dèu de la Misericòrdia
DTSTART;TZID=Europe/Madrid;VALUE=DATE-TIME:20140830T051500
DTEND;TZID=Europe/Madrid;VALUE=DATE-TIME:20140830T061500
DTSTAMP;VALUE=DATE-TIME:20260424T120613Z
UID:3122505bd22285d7a774cbc57cb6c797
CREATED;VALUE=DATE-TIME:20140830T000000Z
LOCATION:Santuari de la Misericòrdia
COMMENT:Durada: Del 30 d'agost al 7 de setembre de 2014
URL:https://www.canetdemar.cat/document.php?id=12215
END:VEVENT
END:VCALENDAR