BEGIN:VCALENDAR
VERSION:2.0
PRODID:-//Plone.org//NONSGML plone.app.event//EN
X-WR-TIMEZONE:Europe/Madrid
BEGIN:VEVENT
SUMMARY:Ball a l'esplai
DTSTART;TZID=Europe/Madrid;VALUE=DATE-TIME:20140928T180000
DTEND;TZID=Europe/Madrid;VALUE=DATE-TIME:20140928T190000
DTSTAMP;VALUE=DATE-TIME:20260422T035145Z
UID:fd27204041d7a54b3c76c843ba7af1c3
CREATED;VALUE=DATE-TIME:20140928T000000Z
LOCATION:GGespaicaixa
ORGANIZER:GGespaicaixa
URL:https://www.canetdemar.cat/document.php?id=12213
END:VEVENT
END:VCALENDAR