BEGIN:VCALENDAR
VERSION:2.0
PRODID:-//Plone.org//NONSGML plone.app.event//EN
X-WR-TIMEZONE:Europe/Madrid
BEGIN:VEVENT
SUMMARY:Tertúlies literàries d'història local (suspesa)
DTSTART;TZID=Europe/Madrid;VALUE=DATE-TIME:20140926T190000
DTEND;TZID=Europe/Madrid;VALUE=DATE-TIME:20140926T200000
DTSTAMP;VALUE=DATE-TIME:20260424T102159Z
UID:dcfeb3eca547fdf86788764c62cd6e1b
CREATED;VALUE=DATE-TIME:20140926T000000Z
CATEGORIES:Literatura
LOCATION:Biblioteca
DESCRIPTION:Cartes a l'Havana
URL:https://www.canetdemar.cat/document.php?id=12207
END:VEVENT
END:VCALENDAR