BEGIN:VCALENDAR
VERSION:2.0
PRODID:-//Plone.org//NONSGML plone.app.event//EN
X-WR-TIMEZONE:Europe/Madrid
BEGIN:VEVENT
SUMMARY:Ruta cultural i saludable: Passejada pel Patrimoni
DTSTART;TZID=Europe/Madrid;VALUE=DATE-TIME:20140928T110000
DTEND;TZID=Europe/Madrid;VALUE=DATE-TIME:20140928T120000
DTSTAMP;VALUE=DATE-TIME:20260423T103829Z
UID:23d7b8e152ecd5748c2d8590029e0621
CREATED;VALUE=DATE-TIME:20140928T000000Z
LOCATION:Casa museu Lluís Domènech i Montaner
ORGANIZER:Casa museu Lluís Domènech i Montaner i Àrea de Medi Ambient
COMMENT:Preu: gratuïta
DESCRIPTION:Setmana de la mobilitat sostenible i segura 2014
URL:https://www.canetdemar.cat/document.php?id=12202
END:VEVENT
END:VCALENDAR