BEGIN:VCALENDAR
VERSION:2.0
PRODID:-//Plone.org//NONSGML plone.app.event//EN
X-WR-TIMEZONE:Europe/Madrid
BEGIN:VEVENT
SUMMARY:El documental del mes: My Stuff (L'imprescindible per viure)
DTSTART;TZID=Europe/Madrid;VALUE=DATE-TIME:20140926T213000
DTEND;TZID=Europe/Madrid;VALUE=DATE-TIME:20140926T223000
DTSTAMP;VALUE=DATE-TIME:20260424T011218Z
UID:246c8be9cb8e13c33d8c7d0f775526f6
CREATED;VALUE=DATE-TIME:20140926T000000Z
LOCATION:Centre Parroquial
ORGANIZER:Associació Cultural Plataforma Odèon - ACPO
COMMENT:Preu: 3 euros
URL:https://www.canetdemar.cat/document.php?id=12185
END:VEVENT
END:VCALENDAR