BEGIN:VCALENDAR
VERSION:2.0
PRODID:-//Plone.org//NONSGML plone.app.event//EN
X-WR-TIMEZONE:Europe/Madrid
BEGIN:VEVENT
SUMMARY:Nit de la sardana amb la Cobla Sabadell
DTSTART;TZID=Europe/Madrid;VALUE=DATE-TIME:20140823T221500
DTEND;TZID=Europe/Madrid;VALUE=DATE-TIME:20140823T231500
DTSTAMP;VALUE=DATE-TIME:20260423T190804Z
UID:ac6a7ea7ed58399e7985152a040e5e50
CREATED;VALUE=DATE-TIME:20140823T000000Z
LOCATION:Riera Sant Domènec
ORGANIZER:Amics de la sardana
URL:https://www.canetdemar.cat/document.php?id=12105
END:VEVENT
END:VCALENDAR