BEGIN:VCALENDAR
VERSION:2.0
PRODID:-//Plone.org//NONSGML plone.app.event//EN
X-WR-TIMEZONE:Europe/Madrid
BEGIN:VEVENT
SUMMARY:Nit de la sardana amb la Cobla Principal de Cassà
DTSTART;TZID=Europe/Madrid;VALUE=DATE-TIME:20140809T221500
DTEND;TZID=Europe/Madrid;VALUE=DATE-TIME:20140809T231500
DTSTAMP;VALUE=DATE-TIME:20260423T144912Z
UID:a1223a1a29b009cd7f53c7f568d82ed6
CREATED;VALUE=DATE-TIME:20140809T000000Z
LOCATION:Riera Sant Domènec
ORGANIZER:Amics de la sardana
URL:https://www.canetdemar.cat/document.php?id=12103
END:VEVENT
END:VCALENDAR