BEGIN:VCALENDAR
VERSION:2.0
PRODID:-//Plone.org//NONSGML plone.app.event//EN
X-WR-TIMEZONE:Europe/Madrid
BEGIN:VEVENT
SUMMARY:Exposició: Art a les Hamaques
DTSTART;TZID=Europe/Madrid;VALUE=DATE-TIME:20140829T000000
DTEND;TZID=Europe/Madrid;VALUE=DATE-TIME:20140829T010000
DTSTAMP;VALUE=DATE-TIME:20260425T205824Z
UID:5f2a03ee35f0a433c73745c1b57b7fc6
CREATED;VALUE=DATE-TIME:20140829T000000Z
LOCATION:Sala Cultural Ramon de Capmany
COMMENT:Durada: del 29 d'agost al 14 de setembre de 2014
URL:https://www.canetdemar.cat/document.php?id=12096
END:VEVENT
END:VCALENDAR