BEGIN:VCALENDAR
VERSION:2.0
PRODID:-//Plone.org//NONSGML plone.app.event//EN
X-WR-TIMEZONE:Europe/Madrid
BEGIN:VEVENT
SUMMARY:II Mostra de dansa
DTSTART;TZID=Europe/Madrid;VALUE=DATE-TIME:20140718T213000
DTEND;TZID=Europe/Madrid;VALUE=DATE-TIME:20140718T223000
DTSTAMP;VALUE=DATE-TIME:20260425T210027Z
UID:15225063dd09f061ad6567c58b335e43
CREATED;VALUE=DATE-TIME:20140718T000000Z
LOCATION:riera Sant Domènec
ORGANIZER:Associació de Veïns del Casc Antic
URL:https://www.canetdemar.cat/document.php?id=12053
END:VEVENT
END:VCALENDAR