BEGIN:VCALENDAR
VERSION:2.0
PRODID:-//Plone.org//NONSGML plone.app.event//EN
X-WR-TIMEZONE:Europe/Madrid
BEGIN:VEVENT
SUMMARY:Campanya de donació de sang - Festa Major 2014
DTSTART;TZID=Europe/Madrid;VALUE=DATE-TIME:20140629T100000
DTEND;TZID=Europe/Madrid;VALUE=DATE-TIME:20140629T110000
DTSTAMP;VALUE=DATE-TIME:20260424T171157Z
UID:e5adf10c869ee9f60c0b23cc9b93c392
CREATED;VALUE=DATE-TIME:20140629T000000Z
LOCATION:plaça Universitat
ORGANIZER:Banc de sang i de teixits
COMMENT:Durada: de 10.00 a 14.00 hores
URL:https://www.canetdemar.cat/document.php?id=12033
END:VEVENT
END:VCALENDAR