BEGIN:VCALENDAR
VERSION:2.0
PRODID:-//Plone.org//NONSGML plone.app.event//EN
X-WR-TIMEZONE:Europe/Madrid
BEGIN:VEVENT
SUMMARY:Diumenges de ball a la fresca
DTSTART;TZID=Europe/Madrid;VALUE=DATE-TIME:20140727T200000
DTEND;TZID=Europe/Madrid;VALUE=DATE-TIME:20140727T210000
DTSTAMP;VALUE=DATE-TIME:20260424T222510Z
UID:1a0bb741b191ae0533f7be31570b771d
CREATED;VALUE=DATE-TIME:20140727T000000Z
LOCATION:plaça Universitat
ORGANIZER:Amics del ball
URL:https://www.canetdemar.cat/document.php?id=12022
END:VEVENT
END:VCALENDAR