BEGIN:VCALENDAR
VERSION:2.0
PRODID:-//Plone.org//NONSGML plone.app.event//EN
X-WR-TIMEZONE:Europe/Madrid
BEGIN:VEVENT
SUMMARY:Diumenges de ball a la fresca
DTSTART;TZID=Europe/Madrid;VALUE=DATE-TIME:20140720T200000
DTEND;TZID=Europe/Madrid;VALUE=DATE-TIME:20140720T210000
DTSTAMP;VALUE=DATE-TIME:20260421T210747Z
UID:bb4bf4abf127e9bd8b763b73ae90d850
CREATED;VALUE=DATE-TIME:20140720T000000Z
LOCATION:plaça Universitat
ORGANIZER:Amics del ball
URL:https://www.canetdemar.cat/document.php?id=12021
END:VEVENT
END:VCALENDAR