BEGIN:VCALENDAR
VERSION:2.0
PRODID:-//Plone.org//NONSGML plone.app.event//EN
X-WR-TIMEZONE:Europe/Madrid
BEGIN:VEVENT
SUMMARY:Assemblea de socis de l'ACPO
DTSTART;TZID=Europe/Madrid;VALUE=DATE-TIME:20041128T100000
DTEND;TZID=Europe/Madrid;VALUE=DATE-TIME:20041128T110000
DTSTAMP;VALUE=DATE-TIME:20260422T064340Z
UID:cd6033a80dbd005243f1b40299b1653c
CREATED;VALUE=DATE-TIME:20041128T000000Z
URL:https://www.canetdemar.cat/document.php?id=1201
END:VEVENT
END:VCALENDAR