BEGIN:VCALENDAR
VERSION:2.0
PRODID:-//Plone.org//NONSGML plone.app.event//EN
X-WR-TIMEZONE:Europe/Madrid
BEGIN:VEVENT
SUMMARY:L'hora del conte
DTSTART;TZID=Europe/Madrid;VALUE=DATE-TIME:20021214T120000
DTEND;TZID=Europe/Madrid;VALUE=DATE-TIME:20021214T130000
DTSTAMP;VALUE=DATE-TIME:20260423T015041Z
UID:d269aca54cfc5f0fe147355018108c6d
CREATED;VALUE=DATE-TIME:20021214T000000Z
URL:https://www.canetdemar.cat/document.php?id=120
END:VEVENT
END:VCALENDAR