BEGIN:VCALENDAR
VERSION:2.0
PRODID:-//Plone.org//NONSGML plone.app.event//EN
X-WR-TIMEZONE:Europe/Madrid
BEGIN:VEVENT
SUMMARY:Projecció del documental: Què ens passa, valencians!? i xerrada-col·loqui amb David Valls, director
DTSTART;TZID=Europe/Madrid;VALUE=DATE-TIME:20140920T120000
DTEND;TZID=Europe/Madrid;VALUE=DATE-TIME:20140920T130000
DTSTAMP;VALUE=DATE-TIME:20260422T221523Z
UID:850bdad153c9d3c59edb97bc989d9671
CREATED;VALUE=DATE-TIME:20140920T000000Z
CATEGORIES:Cinema
LOCATION:Aula Magna CRTTT - Escola de Teixits
ORGANIZER:Plataforma per la Llengua Canet de Mar
COMMENT:Preu: Gratuït
URL:https://www.canetdemar.cat/document.php?id=11996
END:VEVENT
END:VCALENDAR