BEGIN:VCALENDAR
VERSION:2.0
PRODID:-//Plone.org//NONSGML plone.app.event//EN
X-WR-TIMEZONE:Europe/Madrid
BEGIN:VEVENT
SUMMARY:K80Net III Festival
DTSTART;TZID=Europe/Madrid;VALUE=DATE-TIME:20140712T235500
DTEND;TZID=Europe/Madrid;VALUE=DATE-TIME:20140713T005500
DTSTAMP;VALUE=DATE-TIME:20260425T205855Z
UID:edd8819a5a2fa1af3186bcb317c9bf8e
CREATED;VALUE=DATE-TIME:20140712T000000Z
LOCATION:al passeig Marítim, davant de l'antiga oficina de Turisme
ORGANIZER:K80Net
URL:https://www.canetdemar.cat/document.php?id=11967
END:VEVENT
END:VCALENDAR