BEGIN:VCALENDAR
VERSION:2.0
PRODID:-//Plone.org//NONSGML plone.app.event//EN
X-WR-TIMEZONE:Europe/Madrid
BEGIN:VEVENT
SUMMARY:4rt cicle de cinema infantil a càrrec d'ACCAI
DTSTART;TZID=Europe/Madrid;VALUE=DATE-TIME:20041121T110000
DTEND;TZID=Europe/Madrid;VALUE=DATE-TIME:20041121T120000
DTSTAMP;VALUE=DATE-TIME:20260423T033559Z
UID:94bb361a8b157c272b48220bd94de2f4
CREATED;VALUE=DATE-TIME:20041121T000000Z
URL:https://www.canetdemar.cat/document.php?id=1195
END:VEVENT
END:VCALENDAR