BEGIN:VCALENDAR
VERSION:2.0
PRODID:-//Plone.org//NONSGML plone.app.event//EN
X-WR-TIMEZONE:Europe/Madrid
BEGIN:VEVENT
SUMMARY:La música dels llibres
DTSTART;TZID=Europe/Madrid;VALUE=DATE-TIME:20041126T200000
DTEND;TZID=Europe/Madrid;VALUE=DATE-TIME:20041126T210000
DTSTAMP;VALUE=DATE-TIME:20260426T050624Z
UID:47254d7a9efd55e5419658fd04c7dc98
CREATED;VALUE=DATE-TIME:20041126T000000Z
URL:https://www.canetdemar.cat/document.php?id=1193
END:VEVENT
END:VCALENDAR