BEGIN:VCALENDAR
VERSION:2.0
PRODID:-//Plone.org//NONSGML plone.app.event//EN
X-WR-TIMEZONE:Europe/Madrid
BEGIN:VEVENT
SUMMARY:Contes a la fresca: Anades i vingudes de l'Amades amb en Rah-mon Roma
DTSTART;TZID=Europe/Madrid;VALUE=DATE-TIME:20140828T190000
DTEND;TZID=Europe/Madrid;VALUE=DATE-TIME:20140828T200000
DTSTAMP;VALUE=DATE-TIME:20260424T203814Z
UID:31ccb1b6226a895577be94e24a2bf9f5
CREATED;VALUE=DATE-TIME:20140828T000000Z
CATEGORIES:Infantils
LOCATION:Plaça de la biblioteca
ORGANIZER:Biblioteca P. Gual i Pujadas
URL:https://www.canetdemar.cat/document.php?id=11918
END:VEVENT
END:VCALENDAR