BEGIN:VCALENDAR
VERSION:2.0
PRODID:-//Plone.org//NONSGML plone.app.event//EN
X-WR-TIMEZONE:Europe/Madrid
BEGIN:VEVENT
SUMMARY:Exposició: 1714 Som i Serem
DTSTART;TZID=Europe/Madrid;VALUE=DATE-TIME:20140622T110000
DTEND;TZID=Europe/Madrid;VALUE=DATE-TIME:20140622T120000
DTSTAMP;VALUE=DATE-TIME:20260424T152601Z
UID:c3fa259b8bbfc71b42aa4fc6c6ba736d
CREATED;VALUE=DATE-TIME:20140622T000000Z
DESCRIPTION:Col·lectiva de pintura
URL:https://www.canetdemar.cat/document.php?id=11912
END:VEVENT
END:VCALENDAR