BEGIN:VCALENDAR
VERSION:2.0
PRODID:-//Plone.org//NONSGML plone.app.event//EN
X-WR-TIMEZONE:Europe/Madrid
BEGIN:VEVENT
SUMMARY:Gala Lírica. Les millors Àries i Sarsueles
DTSTART;TZID=Europe/Madrid;VALUE=DATE-TIME:20140624T190000
DTEND;TZID=Europe/Madrid;VALUE=DATE-TIME:20140624T200000
DTSTAMP;VALUE=DATE-TIME:20260425T054710Z
UID:838070d98e7454a58436a552b3f8497d
CREATED;VALUE=DATE-TIME:20140624T000000Z
LOCATION:Centre Parroquial
ORGANIZER:AV Casc Antic
URL:https://www.canetdemar.cat/document.php?id=11900
END:VEVENT
END:VCALENDAR