BEGIN:VCALENDAR
VERSION:2.0
PRODID:-//Plone.org//NONSGML plone.app.event//EN
X-WR-TIMEZONE:Europe/Madrid
BEGIN:VEVENT
SUMMARY:Pare Noël i cantada de Nadales
DTSTART;TZID=Europe/Madrid;VALUE=DATE-TIME:20021221T100000
DTEND;TZID=Europe/Madrid;VALUE=DATE-TIME:20021221T110000
DTSTAMP;VALUE=DATE-TIME:20260424T033656Z
UID:f53150c0a1d0a8b848b04c1d28e04d9c
CREATED;VALUE=DATE-TIME:20021221T000000Z
URL:https://www.canetdemar.cat/document.php?id=119
END:VEVENT
END:VCALENDAR