BEGIN:VCALENDAR
VERSION:2.0
PRODID:-//Plone.org//NONSGML plone.app.event//EN
X-WR-TIMEZONE:Europe/Madrid
BEGIN:VEVENT
SUMMARY:Excursió: Sant Guim de Freixenent
DTSTART;TZID=Europe/Madrid;VALUE=DATE-TIME:20140625T080000
DTEND;TZID=Europe/Madrid;VALUE=DATE-TIME:20140625T090000
DTSTAMP;VALUE=DATE-TIME:20260419T222449Z
UID:9628cefd9d6ec0c2de96b651cca95a4b
CREATED;VALUE=DATE-TIME:20140625T000000Z
LOCATION:Sortida, parada Comediants
ORGANIZER:GGespaicaixa - Canet
URL:https://www.canetdemar.cat/document.php?id=11854
END:VEVENT
END:VCALENDAR