BEGIN:VCALENDAR
VERSION:2.0
PRODID:-//Plone.org//NONSGML plone.app.event//EN
X-WR-TIMEZONE:Europe/Madrid
BEGIN:VEVENT
SUMMARY:Tirada al plat de Festa Major
DTSTART;TZID=Europe/Madrid;VALUE=DATE-TIME:20140615T000000
DTEND;TZID=Europe/Madrid;VALUE=DATE-TIME:20140615T010000
DTSTAMP;VALUE=DATE-TIME:20260420T032926Z
UID:20921138586178e51a1da02216bf480d
CREATED;VALUE=DATE-TIME:20140615T000000Z
ORGANIZER:Club Tir al Plat
URL:https://www.canetdemar.cat/document.php?id=11851
END:VEVENT
END:VCALENDAR