BEGIN:VCALENDAR
VERSION:2.0
PRODID:-//Plone.org//NONSGML plone.app.event//EN
X-WR-TIMEZONE:Europe/Madrid
BEGIN:VEVENT
SUMMARY:Teatre: "El barret de cascavells"
DTSTART;TZID=Europe/Madrid;VALUE=DATE-TIME:20041120T210000
DTEND;TZID=Europe/Madrid;VALUE=DATE-TIME:20041120T220000
DTSTAMP;VALUE=DATE-TIME:20260423T032145Z
UID:d03787a9b09474c9d53810bb91f9e27c
CREATED;VALUE=DATE-TIME:20041120T000000Z
URL:https://www.canetdemar.cat/document.php?id=1185
END:VEVENT
END:VCALENDAR