BEGIN:VCALENDAR
VERSION:2.0
PRODID:-//Plone.org//NONSGML plone.app.event//EN
X-WR-TIMEZONE:Europe/Madrid
BEGIN:VEVENT
SUMMARY:Campionat de Catalunya de Patí a vela
DTSTART;TZID=Europe/Madrid;VALUE=DATE-TIME:20140531T000000
DTEND;TZID=Europe/Madrid;VALUE=DATE-TIME:20140531T010000
DTSTAMP;VALUE=DATE-TIME:20260424T202940Z
UID:4140f7243f3870107a3483d1ae48763b
CREATED;VALUE=DATE-TIME:20140531T000000Z
LOCATION:Club Mar i Vent
ORGANIZER:Club Mar i Vent
COMMENT:Durada: 31 de maig i 1, 7 i 8 de juny
URL:https://www.canetdemar.cat/document.php?id=11847
END:VEVENT
END:VCALENDAR