BEGIN:VCALENDAR
VERSION:2.0
PRODID:-//Plone.org//NONSGML plone.app.event//EN
X-WR-TIMEZONE:Europe/Madrid
BEGIN:VEVENT
SUMMARY:Contes a la fresca: El venedor de contes amb en Jordi Tonietti
DTSTART;TZID=Europe/Madrid;VALUE=DATE-TIME:20140710T190000
DTEND;TZID=Europe/Madrid;VALUE=DATE-TIME:20140710T200000
DTSTAMP;VALUE=DATE-TIME:20260424T213013Z
UID:9c7dd35cb6c811e40ae63e966c77102d
CREATED;VALUE=DATE-TIME:20140710T000000Z
CATEGORIES:Infantils
LOCATION:Plaça de la biblioteca
URL:https://www.canetdemar.cat/document.php?id=11843
END:VEVENT
END:VCALENDAR