BEGIN:VCALENDAR
VERSION:2.0
PRODID:-//Plone.org//NONSGML plone.app.event//EN
X-WR-TIMEZONE:Europe/Madrid
BEGIN:VEVENT
SUMMARY:Casal d'estiu Strankis
DTSTART;TZID=Europe/Madrid;VALUE=DATE-TIME:20140510T100000
DTEND;TZID=Europe/Madrid;VALUE=DATE-TIME:20140510T110000
DTSTAMP;VALUE=DATE-TIME:20260424T054942Z
UID:e307ec8f1053e8b6dd5038eb8a6156aa
CREATED;VALUE=DATE-TIME:20140510T000000Z
ORGANIZER:Espai Strankis
URL:https://www.canetdemar.cat/document.php?id=11816
END:VEVENT
END:VCALENDAR