BEGIN:VCALENDAR
VERSION:2.0
PRODID:-//Plone.org//NONSGML plone.app.event//EN
X-WR-TIMEZONE:Europe/Madrid
BEGIN:VEVENT
SUMMARY:Commemoració dels 25 anys d'ajuntaments democràtics
DTSTART;TZID=Europe/Madrid;VALUE=DATE-TIME:20041114T120000
DTEND;TZID=Europe/Madrid;VALUE=DATE-TIME:20041114T130000
DTSTAMP;VALUE=DATE-TIME:20260423T014842Z
UID:6c0e8abffce2b0722deaeaf14509ada7
CREATED;VALUE=DATE-TIME:20041114T000000Z
URL:https://www.canetdemar.cat/document.php?id=1180
END:VEVENT
END:VCALENDAR