BEGIN:VCALENDAR
VERSION:2.0
PRODID:-//Plone.org//NONSGML plone.app.event//EN
X-WR-TIMEZONE:Europe/Madrid
BEGIN:VEVENT
SUMMARY:Dia Internacional dels Museus
DTSTART;TZID=Europe/Madrid;VALUE=DATE-TIME:20140518T000000
DTEND;TZID=Europe/Madrid;VALUE=DATE-TIME:20140518T010000
DTSTAMP;VALUE=DATE-TIME:20260424T123221Z
UID:dc6c6e51c150ea0015b244709f1a6666
CREATED;VALUE=DATE-TIME:20140518T000000Z
LOCATION:Casa museu Lluís Domènech i Montaner - xamfrà rieres Gavarra i Buscarons
ORGANIZER:Casa museu Lluís Domènech i Montaner
COMMENT:Preu: portes obertes
URL:https://www.canetdemar.cat/document.php?id=11783
END:VEVENT
END:VCALENDAR