BEGIN:VCALENDAR
VERSION:2.0
PRODID:-//Plone.org//NONSGML plone.app.event//EN
X-WR-TIMEZONE:Europe/Madrid
BEGIN:VEVENT
SUMMARY:Diumenges de ball
DTSTART;TZID=Europe/Madrid;VALUE=DATE-TIME:20140413T190000
DTEND;TZID=Europe/Madrid;VALUE=DATE-TIME:20140413T200000
DTSTAMP;VALUE=DATE-TIME:20260423T054259Z
UID:01cd5ba7489d53eb1bba2561702d1a01
CREATED;VALUE=DATE-TIME:20140413T000000Z
LOCATION:Envelat de Vil·la Flora
ORGANIZER:Amics del ball
URL:https://www.canetdemar.cat/document.php?id=11721
END:VEVENT
END:VCALENDAR