BEGIN:VCALENDAR
VERSION:2.0
PRODID:-//Plone.org//NONSGML plone.app.event//EN
X-WR-TIMEZONE:Europe/Madrid
BEGIN:VEVENT
SUMMARY:Exposició: Instants de Moviment
DTSTART;TZID=Europe/Madrid;VALUE=DATE-TIME:20140425T200000
DTEND;TZID=Europe/Madrid;VALUE=DATE-TIME:20140425T210000
DTSTAMP;VALUE=DATE-TIME:20260424T102114Z
UID:09055c98cc453f9b5959e418a144376d
CREATED;VALUE=DATE-TIME:20140425T000000Z
CATEGORIES:Dansa,Exposició
LOCATION:Sala Cultural Ramon de Capmany
ORGANIZER:Ernesto Clodgutie i Anaïs Muñoz amb la col·laboració de l'Escola de Dansa Natalia Prior.
COMMENT:Preu: Gratuït
Durada: del 25 al 27 d'abril
DESCRIPTION:Reflexions al voltant de la dansa de la mà del fotògraf Ernesto Clodgutie i l'artista Anaïs Muñoz.
URL:https://www.canetdemar.cat/document.php?id=11709
END:VEVENT
END:VCALENDAR