BEGIN:VCALENDAR
VERSION:2.0
PRODID:-//Plone.org//NONSGML plone.app.event//EN
X-WR-TIMEZONE:Europe/Madrid
BEGIN:VEVENT
SUMMARY:Caravana Solidària i animació infantil
DTSTART;TZID=Europe/Madrid;VALUE=DATE-TIME:20041106T110000
DTEND;TZID=Europe/Madrid;VALUE=DATE-TIME:20041106T120000
DTSTAMP;VALUE=DATE-TIME:20260424T023453Z
UID:10cfb2b9801858ec8b407698c7e4ace0
CREATED;VALUE=DATE-TIME:20041106T000000Z
URL:https://www.canetdemar.cat/document.php?id=1168
END:VEVENT
END:VCALENDAR