BEGIN:VCALENDAR
VERSION:2.0
PRODID:-//Plone.org//NONSGML plone.app.event//EN
X-WR-TIMEZONE:Europe/Madrid
BEGIN:VEVENT
SUMMARY:Seminari gratuït per a emprenedors: Les claus per convertir una idea en negoci
DTSTART;TZID=Europe/Madrid;VALUE=DATE-TIME:20140408T093000
DTEND;TZID=Europe/Madrid;VALUE=DATE-TIME:20140408T103000
DTSTAMP;VALUE=DATE-TIME:20260424T010933Z
UID:f6283d56e3212aea9d5bc549f3cf2638
CREATED;VALUE=DATE-TIME:20140408T000000Z
LOCATION:La Masoveria de Vil·la Flora - riera Gavarra s/n
ORGANIZER:Àrea de Promoció Econòmica
COMMENT:Preu: gratuït
Durada: 8 i 10 d'abril de 2014
URL:https://www.canetdemar.cat/document.php?id=11679
END:VEVENT
END:VCALENDAR