BEGIN:VCALENDAR
VERSION:2.0
PRODID:-//Plone.org//NONSGML plone.app.event//EN
X-WR-TIMEZONE:Europe/Madrid
BEGIN:VEVENT
SUMMARY:Presentació del número 2 de la Domenechiana
DTSTART;TZID=Europe/Madrid;VALUE=DATE-TIME:20140422T120000
DTEND;TZID=Europe/Madrid;VALUE=DATE-TIME:20140422T130000
DTSTAMP;VALUE=DATE-TIME:20260423T001054Z
UID:3cc260c24a90505c86a99e29657ccce2
CREATED;VALUE=DATE-TIME:20140422T000000Z
LOCATION:Sala Lluís Domènech i Montaner de l'Hospital de Sant Pau - Barcelona
URL:https://www.canetdemar.cat/document.php?id=11662
END:VEVENT
END:VCALENDAR