BEGIN:VCALENDAR
VERSION:2.0
PRODID:-//Plone.org//NONSGML plone.app.event//EN
X-WR-TIMEZONE:Europe/Madrid
BEGIN:VEVENT
SUMMARY:Festival infantil benèfic música, màgia, hip hop, jazz i animació en benefici de Benestar Social
DTSTART;TZID=Europe/Madrid;VALUE=DATE-TIME:20140330T113000
DTEND;TZID=Europe/Madrid;VALUE=DATE-TIME:20140330T123000
DTSTAMP;VALUE=DATE-TIME:20260422T164425Z
UID:014a1b5ac98e5b4e88b74632f82c92e7
CREATED;VALUE=DATE-TIME:20140330T000000Z
LOCATION:Envelat de Vil·la Flora
ORGANIZER:Associació de veïns Casc Antic
COMMENT:Preu: Donatiu
URL:https://www.canetdemar.cat/document.php?id=11638
END:VEVENT
END:VCALENDAR