BEGIN:VCALENDAR
VERSION:2.0
PRODID:-//Plone.org//NONSGML plone.app.event//EN
X-WR-TIMEZONE:Europe/Madrid
BEGIN:VEVENT
SUMMARY:1r Torneig de Pàdel
DTSTART;TZID=Europe/Madrid;VALUE=DATE-TIME:20140323T000000
DTEND;TZID=Europe/Madrid;VALUE=DATE-TIME:20140323T010000
DTSTAMP;VALUE=DATE-TIME:20260423T201216Z
UID:48caf6a2ecaf529fbd23c6fe44a9137f
CREATED;VALUE=DATE-TIME:20140323T000000Z
LOCATION:H2O Fitness & Club Canet - rial Mas Figuerola 2
ORGANIZER:H2O Fitness & Club Canet
COMMENT:Durada: 22 i 23 de març
URL:https://www.canetdemar.cat/document.php?id=11617
END:VEVENT
END:VCALENDAR