BEGIN:VCALENDAR
VERSION:2.0
PRODID:-//Plone.org//NONSGML plone.app.event//EN
X-WR-TIMEZONE:Europe/Madrid
BEGIN:VEVENT
SUMMARY:Setmana d'audicions a l'Escola de Música
DTSTART;TZID=Europe/Madrid;VALUE=DATE-TIME:20021209T190000
DTEND;TZID=Europe/Madrid;VALUE=DATE-TIME:20021209T200000
DTSTAMP;VALUE=DATE-TIME:20260422T053246Z
UID:ac3893ed9d5521bd47e3fd80d0503f94
CREATED;VALUE=DATE-TIME:20021209T000000Z
URL:https://www.canetdemar.cat/document.php?id=116
END:VEVENT
END:VCALENDAR