BEGIN:VCALENDAR
VERSION:2.0
PRODID:-//Plone.org//NONSGML plone.app.event//EN
X-WR-TIMEZONE:Europe/Madrid
BEGIN:VEVENT
SUMMARY:MusicalsBars de Canet: Your Song Francina Balaguer & Xavi Torras
DTSTART;TZID=Europe/Madrid;VALUE=DATE-TIME:20140406T123000
DTEND;TZID=Europe/Madrid;VALUE=DATE-TIME:20140406T133000
DTSTAMP;VALUE=DATE-TIME:20260424T040315Z
UID:6b066f97d24f958a9411f7c4f3f0bf40
CREATED;VALUE=DATE-TIME:20140406T000000Z
LOCATION:Massamare - riera Pinar 16
ORGANIZER:Associació Cultural Plataforma Odèon - ACPO
COMMENT:Durada: de 12.30 a 14.00 hores
DESCRIPTION:Versions
URL:https://www.canetdemar.cat/document.php?id=11581
END:VEVENT
END:VCALENDAR