BEGIN:VCALENDAR
VERSION:2.0
PRODID:-//Plone.org//NONSGML plone.app.event//EN
X-WR-TIMEZONE:Europe/Madrid
BEGIN:VEVENT
SUMMARY:MusicalsBars de Canet: Jazz Gats
DTSTART;TZID=Europe/Madrid;VALUE=DATE-TIME:20140330T123000
DTEND;TZID=Europe/Madrid;VALUE=DATE-TIME:20140330T133000
DTSTAMP;VALUE=DATE-TIME:20260423T114651Z
UID:5ad816b64316057e1959053dc7b6dc4c
CREATED;VALUE=DATE-TIME:20140330T000000Z
LOCATION:Plaça Americanos - Bar K-Net + La Queixalada
ORGANIZER:Associació Cultural Plataforma Odèon - ACPO
COMMENT:Durada: de 12.30 a 14.00 hores
DESCRIPTION:Jazz de tots els temps
URL:https://www.canetdemar.cat/document.php?id=11580
END:VEVENT
END:VCALENDAR