BEGIN:VCALENDAR
VERSION:2.0
PRODID:-//Plone.org//NONSGML plone.app.event//EN
X-WR-TIMEZONE:Europe/Madrid
BEGIN:VEVENT
SUMMARY:Passejada pel modernisme burgès de Lluís Domènech i Montaner i presentació de l'Epistolari Lluís Domènech i Montaner (1878-1923)
DTSTART;TZID=Europe/Madrid;VALUE=DATE-TIME:20140314T153000
DTEND;TZID=Europe/Madrid;VALUE=DATE-TIME:20140314T163000
DTSTAMP;VALUE=DATE-TIME:20260424T202740Z
UID:1660136036696f8e887c1359f69f589d
CREATED;VALUE=DATE-TIME:20140314T000000Z
ORGANIZER:Centre d'Estudis Lluís Domènech i Montaner - CEDIM
URL:https://www.canetdemar.cat/document.php?id=11574
END:VEVENT
END:VCALENDAR