BEGIN:VCALENDAR
VERSION:2.0
PRODID:-//Plone.org//NONSGML plone.app.event//EN
X-WR-TIMEZONE:Europe/Madrid
BEGIN:VEVENT
SUMMARY:II Superdictat
DTSTART;TZID=Europe/Madrid;VALUE=DATE-TIME:20140404T193000
DTEND;TZID=Europe/Madrid;VALUE=DATE-TIME:20140404T203000
DTSTAMP;VALUE=DATE-TIME:20260423T032804Z
UID:ddc8fd56f830107c038cae4506b89760
CREATED;VALUE=DATE-TIME:20140404T000000Z
LOCATION:Aula Magna CRTTT - Escola de Teixits
ORGANIZER:Plataforma per la Llengua Canet de Mar - l'ONG del català
COMMENT:Preu: Gratuït
DESCRIPTION:Jocs de Llengua de Canet de Mar 2014
URL:https://www.canetdemar.cat/document.php?id=11569
END:VEVENT
END:VCALENDAR