BEGIN:VCALENDAR
VERSION:2.0
PRODID:-//Plone.org//NONSGML plone.app.event//EN
X-WR-TIMEZONE:Europe/Madrid
BEGIN:VEVENT
SUMMARY:Xerrada La importància del joc en la infància
DTSTART;TZID=Europe/Madrid;VALUE=DATE-TIME:20140314T173000
DTEND;TZID=Europe/Madrid;VALUE=DATE-TIME:20140314T183000
DTSTAMP;VALUE=DATE-TIME:20260422T053627Z
UID:1495885215fc3d494b258d48a864927c
CREATED;VALUE=DATE-TIME:20140314T000000Z
LOCATION:EBM El Palauet
ORGANIZER:AMPA EBM El Palauet
URL:https://www.canetdemar.cat/document.php?id=11518
END:VEVENT
END:VCALENDAR