BEGIN:VCALENDAR
VERSION:2.0
PRODID:-//Plone.org//NONSGML plone.app.event//EN
X-WR-TIMEZONE:Europe/Madrid
BEGIN:VEVENT
SUMMARY:Ball a l'esplai
DTSTART;TZID=Europe/Madrid;VALUE=DATE-TIME:20140316T180000
DTEND;TZID=Europe/Madrid;VALUE=DATE-TIME:20140316T190000
DTSTAMP;VALUE=DATE-TIME:20260424T101359Z
UID:8d9e8bbc47d7966282009d11d905a9f9
CREATED;VALUE=DATE-TIME:20140316T000000Z
LOCATION:Vall 24
ORGANIZER:GGespaicaixa-Canet
URL:https://www.canetdemar.cat/document.php?id=11504
END:VEVENT
END:VCALENDAR