BEGIN:VCALENDAR
VERSION:2.0
PRODID:-//Plone.org//NONSGML plone.app.event//EN
X-WR-TIMEZONE:Europe/Madrid
BEGIN:VEVENT
SUMMARY:Conferència: La situació de la dona a l'Índia rural
DTSTART;TZID=Europe/Madrid;VALUE=DATE-TIME:20021214T200000
DTEND;TZID=Europe/Madrid;VALUE=DATE-TIME:20021214T210000
DTSTAMP;VALUE=DATE-TIME:20260425T173816Z
UID:4f54d23f6856d051a068005ff5c48539
CREATED;VALUE=DATE-TIME:20021214T000000Z
URL:https://www.canetdemar.cat/document.php?id=115
END:VEVENT
END:VCALENDAR